BEGIN:VCALENDAR
VERSION:2.0
PRODID:-//FranklinCovey - ECPv6.15.10//NONSGML v1.0//EN
CALSCALE:GREGORIAN
METHOD:PUBLISH
X-WR-CALNAME:FranklinCovey
X-ORIGINAL-URL:https://franklincoveyla.com
X-WR-CALDESC:Eventos para FranklinCovey
REFRESH-INTERVAL;VALUE=DURATION:PT1H
X-Robots-Tag:noindex
X-PUBLISHED-TTL:PT1H
BEGIN:VTIMEZONE
TZID:UTC
BEGIN:STANDARD
TZOFFSETFROM:+0000
TZOFFSETTO:+0000
TZNAME:UTC
DTSTART:20210101T000000
END:STANDARD
END:VTIMEZONE
BEGIN:VEVENT
DTSTART;VALUE=DATE:20220927
DTEND;VALUE=DATE:20220929
DTSTAMP:20260419T122929
CREATED:20220818T134658Z
LAST-MODIFIED:20220818T134658Z
UID:24467-1664236800-1664409599@franklincoveyla.com
SUMMARY:Leading at the Speed of Trust
DESCRIPTION:
URL:https://franklincoveyla.com/event/leading-at-the-speed-of-trust/
END:VEVENT
END:VCALENDAR